BEGIN:VCALENDAR
VERSION:2.0
PRODID:-//Gemeinde Gottes Nagold - ECPv5.3.0//NONSGML v1.0//EN
CALSCALE:GREGORIAN
METHOD:PUBLISH
X-WR-CALNAME:Gemeinde Gottes Nagold
X-ORIGINAL-URL:https://gemeinde-gottes-nagold.de
X-WR-CALDESC:Veranstaltungen für Gemeinde Gottes Nagold
BEGIN:VTIMEZONE
TZID:Europe/Berlin
BEGIN:DAYLIGHT
TZOFFSETFROM:+0100
TZOFFSETTO:+0200
TZNAME:CEST
DTSTART:20220327T010000
END:DAYLIGHT
BEGIN:STANDARD
TZOFFSETFROM:+0200
TZOFFSETTO:+0100
TZNAME:CET
DTSTART:20221030T010000
END:STANDARD
END:VTIMEZONE
BEGIN:VEVENT
DTSTART;TZID=Europe/Berlin:20221022T190000
DTEND;TZID=Europe/Berlin:20221022T210000
DTSTAMP:20260422T094210
CREATED:20221005T174724Z
LAST-MODIFIED:20221008T064011Z
UID:2219-1666465200-1666472400@gemeinde-gottes-nagold.de
SUMMARY:GGN-Kinoabend 22.Okt.2022
DESCRIPTION:Die Polizisten Adam Mitchell (Alex Kendrick)\, Nathan Hayes (Ken Bevel) und ihre Kollegen haben im Zuge ihres Berufes schon einiges erlebt. Schon manch einen menschlichen Abgrund mussten die Cops ausloten\, schon manch eine Herausforderung bestehen. Was im Beruf hervorragend klappt\, lässt im privaten Bereich jedoch zu wünschen übrig. Ihrer Rolle als Vater werden die Polizisten nämlich allzu häufig nicht ausreichend gerecht. Sie merken zusehends\, wie sich ihre Kinder immer weiter von ihnen entfernen und sich langsam aber sicher entfremden. Als auch noch eine ganz persönliche Tragödie über die Männer hereinbricht\, verspüren sie das Bedürfnis\, ihren Glauben zu erneuern und auch ihren Kindern wieder deutlich näher zu kommen. Dabei müssen sich jedoch feststellen\, dass diese Aufgabe schwieriger ist als jede berufliche Herausforderung bisher. \nFSK: 12 Jahre
URL:https://gemeinde-gottes-nagold.de/event/ggn-kinoabend-22-okt-2022/
LOCATION:Gemeinde Gottes Nagold\, Graf-Zeppelin-Str. 36\, 72202 Nagold
ORGANIZER;CN="Gemeinde%20Gottes%20Nagold%20e.V.":MAILTO:info@gemeinde-gottes-nagold.de
END:VEVENT
END:VCALENDAR