BEGIN:VCALENDAR
VERSION:2.0
PRODID:-//Gemeinde Gottes Nagold - ECPv5.3.0//NONSGML v1.0//EN
CALSCALE:GREGORIAN
METHOD:PUBLISH
X-WR-CALNAME:Gemeinde Gottes Nagold
X-ORIGINAL-URL:https://gemeinde-gottes-nagold.de
X-WR-CALDESC:Veranstaltungen für Gemeinde Gottes Nagold
BEGIN:VTIMEZONE
TZID:Europe/Berlin
BEGIN:DAYLIGHT
TZOFFSETFROM:+0100
TZOFFSETTO:+0200
TZNAME:CEST
DTSTART:20230326T010000
END:DAYLIGHT
BEGIN:STANDARD
TZOFFSETFROM:+0200
TZOFFSETTO:+0100
TZNAME:CET
DTSTART:20231029T010000
END:STANDARD
END:VTIMEZONE
BEGIN:VEVENT
DTSTART;TZID=Europe/Berlin:20230212T100000
DTEND;TZID=Europe/Berlin:20230212T113000
DTSTAMP:20260419T234151
CREATED:20230110T185904Z
LAST-MODIFIED:20230110T193013Z
UID:2273-1676196000-1676201400@gemeinde-gottes-nagold.de
SUMMARY:Gottesdienst 12. Feb 2023
DESCRIPTION:Der Gottesdienst findet regelmäßig sonntags um 10:00 Uhr in unserem Gemeindehaus auf dem Wolfsberg-Nagold statt.\nUnsere Gottesdienste sind geprägt von einem starken und lebendigen Lobpreis mit zeitgemäßen Liedern. Mit ihm öffnen wir unsere Herzen und bringen unsere Liebe zu Jesus\, unserem Herrn zum Ausdruck. Wir fokussieren uns ganz auf Jesus und lassen uns beschenken mit der Gegenwart und Nähe unseres Herrn. Wir erleben einen Vorgeschmack auf die himmlische Ewigkeit und breiten unsere Herzen vor Gott aus\, um sie füllen und beschenken zu lassen.\nIm Lobpreis lassen wir den Ackerboden unserer Herzen pflügen\, damit der Same des Wortes in tiefe und nährstoffreiche Furchen fallen kann.\nDie Verkündigung ist zeitgemäß\, lebendig und praxisnah. Die Heilige Schrift ist das Fundament der Lehre und höchste Autorität für jedes gesprochene Wort. Die Verkündigung der frohen Botschaft soll Menschen erbauen\, ermutigen und helfen\, Jesus als den Retter zu erkennen und seine Liebe zu allen Menschen als Wahrheit zu erfahren. Das Wort soll Glauben hervorbringen\, stärken und zu guten Taten anleiten\, die aus der Dankbarkeit und Liebe zu Jesus geschehen sollen.\nDurch das Hören des Wortes Gottes wollen wir unser Leben tief in Jesus verwurzeln und uns reif und standhaft im Alltagsleben machen\, damit wir ein gutes Zeugnis geben und einen anbetenden Lebensstil entwickeln können.\nGebet ist ein wichtiger Baustein in unseren Gottesdiensten. Wir glauben an die uneingeschränkte Kraft Gottes und sein Wirken durch den Heiligen Geist. Es soll ausreichend Platz geben\, damit Menschen für ihre Bedürfnisse und für Heilung beten lassen können. Genauso gibt es ausreichend Möglichkeit\, von dem Wirken Gottes im Leben der Einzelnen zu berichten und die Geschwister an den erbauenden Erfahrungen teilhaben zu lassen.\nWährend der Verkündigung werden die Kinder parallel zum Gottesdienst betreut und auf spannende und interessante Weise in den Geschichten von Gott und seinem Volk und von Jesus unterrichtet.
URL:https://gemeinde-gottes-nagold.de/event/gottesdienst-12-feb-2023/
LOCATION:Gemeinde Gottes Nagold\, Graf-Zeppelin-Str. 36\, 72202 Nagold
ATTACH;FMTTYPE=image/jpeg:https://gemeinde-gottes-nagold.de/wp-content/uploads/2020/01/Gottesdienst2.jpg
ORGANIZER;CN="Gemeinde%20Gottes%20Nagold%20e.V.":MAILTO:info@gemeinde-gottes-nagold.de
END:VEVENT
END:VCALENDAR