BEGIN:VCALENDAR
VERSION:2.0
PRODID:-//Gemeinde Gottes Nagold - ECPv5.3.0//NONSGML v1.0//EN
CALSCALE:GREGORIAN
METHOD:PUBLISH
X-WR-CALNAME:Gemeinde Gottes Nagold
X-ORIGINAL-URL:https://gemeinde-gottes-nagold.de
X-WR-CALDESC:Veranstaltungen für Gemeinde Gottes Nagold
BEGIN:VTIMEZONE
TZID:Europe/Berlin
BEGIN:DAYLIGHT
TZOFFSETFROM:+0100
TZOFFSETTO:+0200
TZNAME:CEST
DTSTART:20210328T010000
END:DAYLIGHT
BEGIN:STANDARD
TZOFFSETFROM:+0200
TZOFFSETTO:+0100
TZNAME:CET
DTSTART:20211031T010000
END:STANDARD
END:VTIMEZONE
BEGIN:VEVENT
DTSTART;TZID=Europe/Berlin:20211224T160000
DTEND;TZID=Europe/Berlin:20211224T173000
DTSTAMP:20260423T000237
CREATED:20211004T185020Z
LAST-MODIFIED:20211223T004650Z
UID:2029-1640361600-1640367000@gemeinde-gottes-nagold.de
SUMMARY:Heiligabend 24.Dez.2021
DESCRIPTION:Aufgrund der der aktuellen Situation haben wir uns entschieden\, den Heiligabend-Gottesdienst wieder draußen mit Feuer zu feiern. Gott hat sich nicht abhalten lassen trotz der damals widrigen Umstände auf die Erde zu kommen. ER lässt sich auch dieses Mal nicht aufhalten und möchte dir begegnen. Herzliche Einladung um 16:00 Uhr mit Lobpreis und einer Weihnachtsbotschaft den Kern von Weihnachten zu entdecken.
URL:https://gemeinde-gottes-nagold.de/event/heiligabend-24-dez-2021/
LOCATION:Gemeinde Gottes Nagold\, Graf-Zeppelin-Str. 36\, 72202 Nagold
ORGANIZER;CN="Gemeinde%20Gottes%20Nagold%20e.V.":MAILTO:info@gemeinde-gottes-nagold.de
END:VEVENT
END:VCALENDAR