BEGIN:VCALENDAR
VERSION:2.0
PRODID:-//Gemeinde Gottes Nagold - ECPv5.3.0//NONSGML v1.0//EN
CALSCALE:GREGORIAN
METHOD:PUBLISH
X-WR-CALNAME:Gemeinde Gottes Nagold
X-ORIGINAL-URL:https://gemeinde-gottes-nagold.de
X-WR-CALDESC:Veranstaltungen für Gemeinde Gottes Nagold
BEGIN:VTIMEZONE
TZID:Europe/Berlin
BEGIN:DAYLIGHT
TZOFFSETFROM:+0100
TZOFFSETTO:+0200
TZNAME:CEST
DTSTART:20240331T010000
END:DAYLIGHT
BEGIN:STANDARD
TZOFFSETFROM:+0200
TZOFFSETTO:+0100
TZNAME:CET
DTSTART:20241027T010000
END:STANDARD
END:VTIMEZONE
BEGIN:VEVENT
DTSTART;TZID=Europe/Berlin:20240527T170000
DTEND;TZID=Europe/Berlin:20240527T190000
DTSTAMP:20260421T000853
CREATED:20240203T113058Z
LAST-MODIFIED:20240203T113058Z
UID:2648-1716829200-1716836400@gemeinde-gottes-nagold.de
SUMMARY:Lobpreisabend/RU 27.Mai 2024
DESCRIPTION:Im Lobpreis öffnen wir unsere Herzen und strecken uns aus\, nach unsrem Gott\, um uns durch seinen Geist die Größe Gottes und seine Geheimnisse und Offenbarungen vor Augen zu halten und zu verstehen. \nDie innersten Gedanken in Worte zu fassen ist oft unmöglich\, und wenn\, dann leichter in der Muttersprache zu formulieren. Auch das Hören mit den Ohren des Herzens fällt vielen in der Muttersprache leichter. \nDaher wollen wir auch die Möglichkeit nutzen\, diesen Lobpreis in der Sprache unseres Hintergrundes\, der uns einen großen Teil unseres Lebens begleitet und geprägt hat\, auszuüben. \nHerzliche Einladung an alle\, die Gott in der russischen Sprache loben und preisen wollen sich zusammen zu finden und unseren großen Gott\, der alle Sprachen beherrscht\, anzubeten.
URL:https://gemeinde-gottes-nagold.de/event/lobpreisabend-ru-27-mai-2024/
LOCATION:Gemeinde Gottes Nagold\, Graf-Zeppelin-Str. 36\, 72202 Nagold
ATTACH;FMTTYPE=image/jpeg:https://gemeinde-gottes-nagold.de/wp-content/uploads/2024/02/Lobreisabend-RU-GGN.jpg
ORGANIZER;CN="Gemeinde%20Gottes%20Nagold%20e.V.":MAILTO:info@gemeinde-gottes-nagold.de
END:VEVENT
END:VCALENDAR