BEGIN:VCALENDAR
VERSION:2.0
PRODID:-//Gemeinde Gottes Nagold - ECPv5.3.0//NONSGML v1.0//EN
CALSCALE:GREGORIAN
METHOD:PUBLISH
X-WR-CALNAME:Gemeinde Gottes Nagold
X-ORIGINAL-URL:https://gemeinde-gottes-nagold.de
X-WR-CALDESC:Veranstaltungen für Gemeinde Gottes Nagold
BEGIN:VTIMEZONE
TZID:Europe/Berlin
BEGIN:DAYLIGHT
TZOFFSETFROM:+0100
TZOFFSETTO:+0200
TZNAME:CEST
DTSTART:20200329T010000
END:DAYLIGHT
BEGIN:STANDARD
TZOFFSETFROM:+0200
TZOFFSETTO:+0100
TZNAME:CET
DTSTART:20201025T010000
END:STANDARD
END:VTIMEZONE
BEGIN:VEVENT
DTSTART;TZID=Europe/Berlin:20201219T110000
DTEND;TZID=Europe/Berlin:20201219T150000
DTSTAMP:20260423T050241
CREATED:20201124T191713Z
LAST-MODIFIED:20201124T191800Z
UID:1844-1608375600-1608390000@gemeinde-gottes-nagold.de
SUMMARY:Streetfood Special 19.Dez.2020
DESCRIPTION:Tschebureki und Piroschki brauchen keinen Weihnachtsmarkt! Deshalb wollen wir an den Adventssamstagen 28.11. und 19.12. eine Aktion starten\, bei der wir unsere leckeren Köstlichkeiten „to go“ also zum Mitnehmen anbieten wollen. Mit der Aktion wollen wir soziale Projekte in Russland unterstützen und freuen uns deshalb\, wenn diese regen Absatz findet. \nWir laden herzlich ein\, jeweils am 28.11. und 19.12. ab 11:00 Uhr bis 15:00 Uhr zu dem Zelt neben unserem Gemeindehaus in der Graf-Zeppelin-Str. 36 in 72202 Nagold auf dem Wolfsberg vorbeizukommen und frische Tschebureki\, Piroschki oder Plov aus dem mit Holz beheizten Wok-Ofen zu genießen. Für kleine und große Kinder gibt es Waffeln „auf die Hand“ und während dem Einkauf kann man sich bei einem warmen leckeren alkoholfreien Punsch erwärmen. \nDamit Sie nicht zu lange warten müssen bieten wir an\, Ihre Bestellung vorab telefonisch unter der 0179 40 32 200 aufzugeben. Gerne können Sie dies ab sofort tätigen und uns die Zeit mitteilen\, wann Sie die Bestellung abholen. \nWir freuen uns auf Ihren Besuch und  darauf\, Sie mit unseren liebevoll zubereiteten Leckereien zu verwöhnen. \nHerzliche Einladung\, das GGN-Event-Team  
URL:https://gemeinde-gottes-nagold.de/event/streetfood-special-19-12-2020/
LOCATION:Gemeinde Gottes Nagold\, Graf-Zeppelin-Str. 36\, 72202 Nagold
ORGANIZER;CN="Gemeinde%20Gottes%20Nagold%20e.V.":MAILTO:info@gemeinde-gottes-nagold.de
END:VEVENT
END:VCALENDAR