BEGIN:VCALENDAR
VERSION:2.0
PRODID:-//Gemeinde Gottes Nagold - ECPv5.3.0//NONSGML v1.0//EN
CALSCALE:GREGORIAN
METHOD:PUBLISH
X-WR-CALNAME:Gemeinde Gottes Nagold
X-ORIGINAL-URL:https://gemeinde-gottes-nagold.de
X-WR-CALDESC:Veranstaltungen für Gemeinde Gottes Nagold
BEGIN:VTIMEZONE
TZID:Europe/Berlin
BEGIN:DAYLIGHT
TZOFFSETFROM:+0100
TZOFFSETTO:+0200
TZNAME:CEST
DTSTART:20220327T010000
END:DAYLIGHT
BEGIN:STANDARD
TZOFFSETFROM:+0200
TZOFFSETTO:+0100
TZNAME:CET
DTSTART:20221030T010000
END:STANDARD
END:VTIMEZONE
BEGIN:VEVENT
DTSTART;TZID=Europe/Berlin:20220319T150000
DTEND;TZID=Europe/Berlin:20220319T200000
DTSTAMP:20260422T191040
CREATED:20211112T164157Z
LAST-MODIFIED:20211112T164157Z
UID:2119-1647702000-1647720000@gemeinde-gottes-nagold.de
SUMMARY:Paarlauf 19.März 2022
DESCRIPTION:Wir haben wieder PAARLAUF\, die besondere Zeit nur für SIE und IHN.\nDiesmal PAARLAUF im Sinne des Wortes\, wir machen eine Wanderung durch das wunderschöne Ammerbuch\, wir hoffen das die Kirschblüte uns erfreut!\nUm ca. 18 Uhr essen wir dann zu Abend im Gasthof Ochsen\, für uns ist ein extra Raum reserviert.\nImpuls und Gespräch zum Thema „Frühling in der Ehe“ \nWir bitten um verbindliche Anmeldung bis Sonntag\, 19.05.19 \nNelli und Walter Damm\nMobil:0176/24602424\nwalter@g-g-n.de
URL:https://gemeinde-gottes-nagold.de/event/paarlauf-19-maerz-2022/
LOCATION:Gemeinde Gottes Nagold\, Graf-Zeppelin-Str. 36\, 72202 Nagold
ATTACH;FMTTYPE=image/jpeg:https://gemeinde-gottes-nagold.de/wp-content/uploads/2019/05/Paarlauf-GGN.jpg
ORGANIZER;CN="Gemeinde%20Gottes%20Nagold%20e.V.":MAILTO:info@gemeinde-gottes-nagold.de
END:VEVENT
END:VCALENDAR