BEGIN:VCALENDAR
VERSION:2.0
PRODID:-//Gemeinde Gottes Nagold - ECPv5.3.0//NONSGML v1.0//EN
CALSCALE:GREGORIAN
METHOD:PUBLISH
X-WR-CALNAME:Gemeinde Gottes Nagold
X-ORIGINAL-URL:https://gemeinde-gottes-nagold.de
X-WR-CALDESC:Veranstaltungen für Gemeinde Gottes Nagold
BEGIN:VTIMEZONE
TZID:Europe/Berlin
BEGIN:DAYLIGHT
TZOFFSETFROM:+0100
TZOFFSETTO:+0200
TZNAME:CEST
DTSTART:20220327T010000
END:DAYLIGHT
BEGIN:STANDARD
TZOFFSETFROM:+0200
TZOFFSETTO:+0100
TZNAME:CET
DTSTART:20221030T010000
END:STANDARD
END:VTIMEZONE
BEGIN:VEVENT
DTSTART;TZID=Europe/Berlin:20220703T110000
DTEND;TZID=Europe/Berlin:20220703T160000
DTSTAMP:20260422T122913
CREATED:20220623T124908Z
LAST-MODIFIED:20220623T125054Z
UID:2195-1656846000-1656864000@gemeinde-gottes-nagold.de
SUMMARY:Klebfest 3.Juli 2022
DESCRIPTION:Familientag im Stadpark Nagold \nFoodtrucks\nKaffee & Kuchen\nLive-Musik\nSpiel & Spaß\nTanz & Kleinkunst\nGemeinschaft von Jung bis Alt\nInternational & multikulturell
URL:https://gemeinde-gottes-nagold.de/event/klebfest-3-juli-2022/
LOCATION:Nagold Stadtpark\, Am Schloßberg 7\, 72202 Nagold
END:VEVENT
END:VCALENDAR