BEGIN:VCALENDAR
VERSION:2.0
PRODID:-//Gemeinde Gottes Nagold - ECPv5.3.0//NONSGML v1.0//EN
CALSCALE:GREGORIAN
METHOD:PUBLISH
X-WR-CALNAME:Gemeinde Gottes Nagold
X-ORIGINAL-URL:https://gemeinde-gottes-nagold.de
X-WR-CALDESC:Veranstaltungen für Gemeinde Gottes Nagold
BEGIN:VTIMEZONE
TZID:Europe/Berlin
BEGIN:DAYLIGHT
TZOFFSETFROM:+0100
TZOFFSETTO:+0200
TZNAME:CEST
DTSTART:20230326T010000
END:DAYLIGHT
BEGIN:STANDARD
TZOFFSETFROM:+0200
TZOFFSETTO:+0100
TZNAME:CET
DTSTART:20231029T010000
END:STANDARD
END:VTIMEZONE
BEGIN:VEVENT
DTSTART;TZID=Europe/Berlin:20231007T090000
DTEND;TZID=Europe/Berlin:20231007T120000
DTSTAMP:20260421T125050
CREATED:20230305T132947Z
LAST-MODIFIED:20230305T132947Z
UID:2330-1696669200-1696680000@gemeinde-gottes-nagold.de
SUMMARY:Frauenfrühstück 07. Okt. 2023
DESCRIPTION:Immer am ersten Samstag im Monat treffen sich die Frauen zu einem Frühstück. Dabei steht ein Input über das Wort Gottes im Mittelpunkt\, über den man sich austauschen kann. In der Gemeinschaft besteht die Möglichkeit\, einander näher kennen zu lernen\, Beziehungen zu pflegen und gemeinsam zu wachsen und zu reifen.\nEs gibt hier keine Alters- und/oder Kulturgrenzen. Im Gegenteil: Gerade die unterschiedlichen Generationen sind eine Bereicherung für diese Treffen und eine tolle Möglichkeit\, seinen Horizont zu erweitern und voneinander zu lernen. Die einzige Voraussetzung ist\, das 16. Lebensjahr erreicht zu haben.
URL:https://gemeinde-gottes-nagold.de/event/frauenfruehstueck-07-okt-2023/
LOCATION:Gemeinde Gottes Nagold\, Graf-Zeppelin-Str. 36\, 72202 Nagold
ATTACH;FMTTYPE=image/jpeg:https://gemeinde-gottes-nagold.de/wp-content/uploads/2023/03/Frauenfruehstueck-GGN-scaled.jpg
ORGANIZER;CN="Gemeinde%20Gottes%20Nagold%20e.V.":MAILTO:info@gemeinde-gottes-nagold.de
END:VEVENT
BEGIN:VEVENT
DTSTART;TZID=Europe/Berlin:20231007T180000
DTEND;TZID=Europe/Berlin:20231007T200000
DTSTAMP:20260421T125050
CREATED:20230423T124737Z
LAST-MODIFIED:20230604T091500Z
UID:2428-1696701600-1696708800@gemeinde-gottes-nagold.de
SUMMARY:Lobpreis-  und Gebetsabend 07.Okt 2023
DESCRIPTION:Hier hast du die Möglichkeit\, dich mit den himmlischen Heerscharen zu vereinen und eine intensive Zeit zu erleben\, die eine gute Vorbereitung und Übung für die Ewigkeit ist. In der Offenbarung lesen wir\, dass wir Tag und Nacht Gott\, den Vater und Jesus Christus anbeten werden. Der Lobpreis dort ist sehr emotional und auch laut beschrieben! Deshalb vergleichen wir es gerne mit einer Auffahrt auf die Autobahn\, bei der wir Gas geben\, beschleunigen und die Richtung Himmelreich einschlagen. Wir erleben Gottes Gegenwart hautnah und dürfen unserem lebendigen Glauben Ausdruck verleihen in der Form\, die uns der Geist schenkt! Dabei soll alles dazu dienen\, Gott zu loben\, IHN groß zu machen und zu staunen\, über seine Herrlichkeit und Erhabenheit\, die uns berührt\, stärkt und ermutigt!
URL:https://gemeinde-gottes-nagold.de/event/lobpreis-und-gebetsabend-07-okt-2023/
LOCATION:Gemeinde Gottes Nagold\, Graf-Zeppelin-Str. 36\, 72202 Nagold
ATTACH;FMTTYPE=image/jpeg:https://gemeinde-gottes-nagold.de/wp-content/uploads/2023/04/Lobpreisabend.jpg
ORGANIZER;CN="Gemeinde%20Gottes%20Nagold%20e.V.":MAILTO:info@gemeinde-gottes-nagold.de
END:VEVENT
END:VCALENDAR