BEGIN:VCALENDAR
VERSION:2.0
PRODID:-//Gemeinde Gottes Nagold - ECPv5.3.0//NONSGML v1.0//EN
CALSCALE:GREGORIAN
METHOD:PUBLISH
X-WR-CALNAME:Gemeinde Gottes Nagold
X-ORIGINAL-URL:https://gemeinde-gottes-nagold.de
X-WR-CALDESC:Veranstaltungen für Gemeinde Gottes Nagold
BEGIN:VTIMEZONE
TZID:Europe/Berlin
BEGIN:DAYLIGHT
TZOFFSETFROM:+0100
TZOFFSETTO:+0200
TZNAME:CEST
DTSTART:20240331T010000
END:DAYLIGHT
BEGIN:STANDARD
TZOFFSETFROM:+0200
TZOFFSETTO:+0100
TZNAME:CET
DTSTART:20241027T010000
END:STANDARD
END:VTIMEZONE
BEGIN:VEVENT
DTSTART;VALUE=DATE:20240530
DTEND;VALUE=DATE:20240603
DTSTAMP:20260421T015422
CREATED:20240131T130226Z
LAST-MODIFIED:20240131T130226Z
UID:2575-1717027200-1717372799@gemeinde-gottes-nagold.de
SUMMARY:Gemeindefreizeit 30.Mai-02.Juni 2024
DESCRIPTION:Gemeindefreizeit im Haus „Elias“ \nFrühzeitige Anmeldung\, da die Plätze begrenzt sind.\nAnmeldung bei Natalya Beidin (auch WhatsApp +49 170 4678906)
URL:https://gemeinde-gottes-nagold.de/event/gemeindefreizeit-30-mai-02-juni-2024/
ATTACH;FMTTYPE=image/jpeg:https://gemeinde-gottes-nagold.de/wp-content/uploads/2024/01/Berge-24-GGN.jpg
ORGANIZER;CN="Gemeinde%20Gottes%20Nagold%20e.V.":MAILTO:info@gemeinde-gottes-nagold.de
END:VEVENT
END:VCALENDAR