BEGIN:VCALENDAR
VERSION:2.0
PRODID:-//Gemeinde Gottes Nagold - ECPv5.3.0//NONSGML v1.0//EN
CALSCALE:GREGORIAN
METHOD:PUBLISH
X-WR-CALNAME:Gemeinde Gottes Nagold
X-ORIGINAL-URL:https://gemeinde-gottes-nagold.de
X-WR-CALDESC:Veranstaltungen für Gemeinde Gottes Nagold
BEGIN:VTIMEZONE
TZID:Europe/Berlin
BEGIN:DAYLIGHT
TZOFFSETFROM:+0100
TZOFFSETTO:+0200
TZNAME:CEST
DTSTART:20240331T010000
END:DAYLIGHT
BEGIN:STANDARD
TZOFFSETFROM:+0200
TZOFFSETTO:+0100
TZNAME:CET
DTSTART:20241027T010000
END:STANDARD
END:VTIMEZONE
BEGIN:VEVENT
DTSTART;TZID=Europe/Berlin:20241031T200000
DTEND;TZID=Europe/Berlin:20241031T220000
DTSTAMP:20260420T155528
CREATED:20221026T174640Z
LAST-MODIFIED:20241020T083807Z
UID:2223-1730404800-1730412000@gemeinde-gottes-nagold.de
SUMMARY:Worship-Night 31.Okt.24
DESCRIPTION:Wir wollen bewusst einen Gegenakzent setzen gegen alle Dunkelheit\, finsteren Mächte\, Depressionen\, Ängste\, Anfechtungen\, Krankheit und Tod und Jesus feiern\, als den\, der Leben in Freiheit und Vollkommenheit schenkt. \n 
URL:https://gemeinde-gottes-nagold.de/event/worship-night-31-okt-2022/
LOCATION:Gemeinde Gottes Nagold\, Graf-Zeppelin-Str. 36\, 72202 Nagold
ATTACH;FMTTYPE=image/jpeg:https://gemeinde-gottes-nagold.de/wp-content/uploads/2022/10/Worship.jpg
ORGANIZER;CN="Gemeinde%20Gottes%20Nagold%20e.V.":MAILTO:info@gemeinde-gottes-nagold.de
END:VEVENT
END:VCALENDAR