BEGIN:VCALENDAR
VERSION:2.0
PRODID:-//Gemeinde Gottes Nagold - ECPv5.3.0//NONSGML v1.0//EN
CALSCALE:GREGORIAN
METHOD:PUBLISH
X-WR-CALNAME:Gemeinde Gottes Nagold
X-ORIGINAL-URL:https://gemeinde-gottes-nagold.de
X-WR-CALDESC:Veranstaltungen für Gemeinde Gottes Nagold
BEGIN:VTIMEZONE
TZID:Europe/Berlin
BEGIN:DAYLIGHT
TZOFFSETFROM:+0100
TZOFFSETTO:+0200
TZNAME:CEST
DTSTART:20240331T010000
END:DAYLIGHT
BEGIN:STANDARD
TZOFFSETFROM:+0200
TZOFFSETTO:+0100
TZNAME:CET
DTSTART:20241027T010000
END:STANDARD
END:VTIMEZONE
BEGIN:VEVENT
DTSTART;TZID=Europe/Berlin:20241129T153000
DTEND;TZID=Europe/Berlin:20241129T180000
DTSTAMP:20260420T142853
CREATED:20241117T102337Z
LAST-MODIFIED:20241117T102337Z
UID:2829-1732894200-1732903200@gemeinde-gottes-nagold.de
SUMMARY:Kreativworkshop 29.Nov.24
DESCRIPTION:Beim kreativen Workshop „Geschickte Hände“ können Kinder im Alter von 7 bis 12 Jahren ihre kreativen Fähigkeiten entwickeln. Die Aktivitäten umfassen Malen\, Basteln\, Nähen und Kochen. \nDie Workshops finden jeden Freitag von 15:30 bis 18:00 Uhr statt. Die Teilnahmegebühr beträgt 10 Euro. \nMachen Sie mit und schenken Sie Ihren Kindern die Möglichkeit\, in einer freundlichen Atmosphäre kreativ zu sein und Neues zu lernen! \n  \n“Умелые ручки” для детей в возрасте от 7 до 12 лет\, где они смогут развивать свои творческие способности. Занятия включают рисование\, рукоделие\, шитьё и приготовление пищи. \nМастер-классы проходят каждую пятницу с 15:30 до 18:00. Стоимость участия составляет 10 евро. \nПрисоединяйтесь и подарите детям возможность творить и учиться в дружной атмосфере!
URL:https://gemeinde-gottes-nagold.de/event/kreativworkshop-29-nov-24/
LOCATION:Gemeinde Gottes Nagold\, Graf-Zeppelin-Str. 36\, 72202 Nagold
ATTACH;FMTTYPE=image/jpeg:https://gemeinde-gottes-nagold.de/wp-content/uploads/2024/11/Умелые-ручки-2.jpg
ORGANIZER;CN="Gemeinde%20Gottes%20Nagold%20e.V.":MAILTO:info@gemeinde-gottes-nagold.de
END:VEVENT
BEGIN:VEVENT
DTSTART;TZID=Europe/Berlin:20241129T200000
DTEND;TZID=Europe/Berlin:20241129T220000
DTSTAMP:20260420T142853
CREATED:20240930T104225Z
LAST-MODIFIED:20240930T104225Z
UID:2784-1732910400-1732917600@gemeinde-gottes-nagold.de
SUMMARY:Jugendtreffen 29.Nov.24
DESCRIPTION:Jugendtreffen für Jugendliche ab 16 Jahren. Jeden Freitag um 20:00 Uhr.
URL:https://gemeinde-gottes-nagold.de/event/jugendtreffen-29-nov-24/
LOCATION:Gemeinde Gottes Nagold\, Graf-Zeppelin-Str. 36\, 72202 Nagold
ATTACH;FMTTYPE=image/jpeg:https://gemeinde-gottes-nagold.de/wp-content/uploads/2024/09/Jugend-2.jpg
ORGANIZER;CN="Gemeinde%20Gottes%20Nagold%20e.V.":MAILTO:info@gemeinde-gottes-nagold.de
END:VEVENT
BEGIN:VEVENT
DTSTART;TZID=Europe/Berlin:20241129T200000
DTEND;TZID=Europe/Berlin:20241129T220000
DTSTAMP:20260420T142853
CREATED:20240930T114755Z
LAST-MODIFIED:20240930T114755Z
UID:2810-1732910400-1732917600@gemeinde-gottes-nagold.de
SUMMARY:Freiraum.Teens 29.Nov.24
DESCRIPTION:Teen-Treffen für Teenys ab 10 Jahren. Jeden Freitag um 18:00 Uhr.
URL:https://gemeinde-gottes-nagold.de/event/freiraum-teens-29-nov-24/
LOCATION:Gemeinde Gottes Nagold\, Graf-Zeppelin-Str. 36\, 72202 Nagold
ATTACH;FMTTYPE=image/jpeg:https://gemeinde-gottes-nagold.de/wp-content/uploads/2024/09/Teeny.jpg
ORGANIZER;CN="Gemeinde%20Gottes%20Nagold%20e.V.":MAILTO:info@gemeinde-gottes-nagold.de
END:VEVENT
END:VCALENDAR