BEGIN:VCALENDAR
VERSION:2.0
PRODID:-//Gemeinde Gottes Nagold - ECPv5.3.0//NONSGML v1.0//EN
CALSCALE:GREGORIAN
METHOD:PUBLISH
X-WR-CALNAME:Gemeinde Gottes Nagold
X-ORIGINAL-URL:https://gemeinde-gottes-nagold.de
X-WR-CALDESC:Veranstaltungen für Gemeinde Gottes Nagold
BEGIN:VTIMEZONE
TZID:Europe/Berlin
BEGIN:DAYLIGHT
TZOFFSETFROM:+0100
TZOFFSETTO:+0200
TZNAME:CEST
DTSTART:20250330T010000
END:DAYLIGHT
BEGIN:STANDARD
TZOFFSETFROM:+0200
TZOFFSETTO:+0100
TZNAME:CET
DTSTART:20251026T010000
END:STANDARD
END:VTIMEZONE
BEGIN:VEVENT
DTSTART;TZID=Europe/Berlin:20250423T080000
DTEND;TZID=Europe/Berlin:20250425T160000
DTSTAMP:20260420T083906
CREATED:20250330T085714Z
LAST-MODIFIED:20250406T180821Z
UID:3222-1745395200-1745596800@gemeinde-gottes-nagold.de
SUMMARY:KiM-Event/ICH BIN EIN BIBELENTDECKER
DESCRIPTION:Drei Abenteuertage mit einem bunten Programm! 23.-25.04.25 \nfür die Kinder ab 7 bis 12 Jahre. \nAnmeldung bei Nelli Damm \n+0151 58161361 \n 
URL:https://gemeinde-gottes-nagold.de/event/kim-event-ich-bin-ein-bibelentdecker/
LOCATION:Gemeinde Gottes Nagold\, Graf-Zeppelin-Str. 36\, 72202 Nagold
ATTACH;FMTTYPE=image/jpeg:https://gemeinde-gottes-nagold.de/wp-content/uploads/2025/03/23.04.25-KiM-Event-25.jpg
ORGANIZER;CN="Gemeinde%20Gottes%20Nagold%20e.V.%2F%20KiM-Event":MAILTO:info@gemeinde-gottes-nagold.de
END:VEVENT
END:VCALENDAR