BEGIN:VCALENDAR
VERSION:2.0
PRODID:-//Gemeinde Gottes Nagold - ECPv5.3.0//NONSGML v1.0//EN
CALSCALE:GREGORIAN
METHOD:PUBLISH
X-WR-CALNAME:Gemeinde Gottes Nagold
X-ORIGINAL-URL:https://gemeinde-gottes-nagold.de
X-WR-CALDESC:Veranstaltungen für Gemeinde Gottes Nagold
BEGIN:VTIMEZONE
TZID:Europe/Berlin
BEGIN:DAYLIGHT
TZOFFSETFROM:+0100
TZOFFSETTO:+0200
TZNAME:CEST
DTSTART:20250330T010000
END:DAYLIGHT
BEGIN:STANDARD
TZOFFSETFROM:+0200
TZOFFSETTO:+0100
TZNAME:CET
DTSTART:20251026T010000
END:STANDARD
END:VTIMEZONE
BEGIN:VEVENT
DTSTART;TZID=Europe/Berlin:20250423T080000
DTEND;TZID=Europe/Berlin:20250425T160000
DTSTAMP:20260420T083905
CREATED:20250330T085714Z
LAST-MODIFIED:20250406T180821Z
UID:3222-1745395200-1745596800@gemeinde-gottes-nagold.de
SUMMARY:KiM-Event/ICH BIN EIN BIBELENTDECKER
DESCRIPTION:Drei Abenteuertage mit einem bunten Programm! 23.-25.04.25 \nfür die Kinder ab 7 bis 12 Jahre. \nAnmeldung bei Nelli Damm \n+0151 58161361 \n 
URL:https://gemeinde-gottes-nagold.de/event/kim-event-ich-bin-ein-bibelentdecker/
LOCATION:Gemeinde Gottes Nagold\, Graf-Zeppelin-Str. 36\, 72202 Nagold
ATTACH;FMTTYPE=image/jpeg:https://gemeinde-gottes-nagold.de/wp-content/uploads/2025/03/23.04.25-KiM-Event-25.jpg
ORGANIZER;CN="Gemeinde%20Gottes%20Nagold%20e.V.%2F%20KiM-Event":MAILTO:info@gemeinde-gottes-nagold.de
END:VEVENT
BEGIN:VEVENT
DTSTART;TZID=Europe/Berlin:20250425T153000
DTEND;TZID=Europe/Berlin:20250425T180000
DTSTAMP:20260420T083905
CREATED:20250103T135740Z
LAST-MODIFIED:20250103T135740Z
UID:2870-1745595000-1745604000@gemeinde-gottes-nagold.de
SUMMARY:Kreativworkshop 25.April 25
DESCRIPTION:Beim kreativen Workshop „Geschickte Hände“ können Kinder im Alter von 7 bis 12 Jahren ihre kreativen Fähigkeiten entwickeln. Die Aktivitäten umfassen Malen\, Basteln\, Nähen und Kochen. \nDie Workshops finden jeden Freitag von 15:30 bis 18:00 Uhr statt. Die Teilnahmegebühr beträgt 10 Euro. \nMachen Sie mit und schenken Sie Ihren Kindern die Möglichkeit\, in einer freundlichen Atmosphäre kreativ zu sein und Neues zu lernen! \n  \n“Умелые ручки” для детей в возрасте от 7 до 12 лет\, где они смогут развивать свои творческие способности. Занятия включают рисование\, рукоделие\, шитьё и приготовление пищи. \nМастер-классы проходят каждую пятницу с 15:30 до 18:00. Стоимость участия составляет 10 евро. \nПрисоединяйтесь и подарите детям возможность творить и учиться в дружной атмосфере!
URL:https://gemeinde-gottes-nagold.de/event/kreativworkshop-25-april-25/
LOCATION:Gemeinde Gottes Nagold\, Graf-Zeppelin-Str. 36\, 72202 Nagold
ATTACH;FMTTYPE=image/jpeg:https://gemeinde-gottes-nagold.de/wp-content/uploads/2024/11/Умелые-ручки-2.jpg
ORGANIZER;CN="Gemeinde%20Gottes%20Nagold%20e.V.":MAILTO:info@gemeinde-gottes-nagold.de
END:VEVENT
BEGIN:VEVENT
DTSTART;TZID=Europe/Berlin:20250425T180000
DTEND;TZID=Europe/Berlin:20250425T200000
DTSTAMP:20260420T083905
CREATED:20250103T213259Z
LAST-MODIFIED:20250103T213259Z
UID:3074-1745604000-1745611200@gemeinde-gottes-nagold.de
SUMMARY:Freiraum.Teens 25.Apr.25
DESCRIPTION:Teen-Treffen für Teenys ab 10 Jahren. Jeden Freitag um 18:00 Uhr.
URL:https://gemeinde-gottes-nagold.de/event/freiraum-teens-25-apr-25/
LOCATION:Gemeinde Gottes Nagold\, Graf-Zeppelin-Str. 36\, 72202 Nagold
ATTACH;FMTTYPE=image/jpeg:https://gemeinde-gottes-nagold.de/wp-content/uploads/2024/09/Teeny.jpg
ORGANIZER;CN="Gemeinde%20Gottes%20Nagold%20e.V.":MAILTO:info@gemeinde-gottes-nagold.de
END:VEVENT
BEGIN:VEVENT
DTSTART;TZID=Europe/Berlin:20250425T200000
DTEND;TZID=Europe/Berlin:20250425T220000
DTSTAMP:20260420T083905
CREATED:20250103T191923Z
LAST-MODIFIED:20250103T191923Z
UID:2974-1745611200-1745618400@gemeinde-gottes-nagold.de
SUMMARY:Jugendtreffen 25.April 25
DESCRIPTION:Jugendtreffen für Jugendliche ab 16 Jahren. Jeden Freitag um 20:00 Uhr.
URL:https://gemeinde-gottes-nagold.de/event/jugendtreffen-25-april-25/
LOCATION:Gemeinde Gottes Nagold\, Graf-Zeppelin-Str. 36\, 72202 Nagold
ATTACH;FMTTYPE=image/jpeg:https://gemeinde-gottes-nagold.de/wp-content/uploads/2024/09/Jugend-2.jpg
ORGANIZER;CN="Gemeinde%20Gottes%20Nagold%20e.V.":MAILTO:info@gemeinde-gottes-nagold.de
END:VEVENT
END:VCALENDAR